BEGIN:VCALENDAR
VERSION:2.0
PRODID:-//jEvents 2.0 for Joomla//EN
CALSCALE:GREGORIAN
METHOD:PUBLISH
BEGIN:VTIMEZONE
TZID:Europe/Berlin
BEGIN:STANDARD
DTSTART:20191027T020000
RDATE:20200329T030000
TZOFFSETFROM:+0200
TZOFFSETTO:+0100
TZNAME:Europe/Berlin CET
END:STANDARD
BEGIN:STANDARD
DTSTART:20201025T020000
RDATE:20210328T030000
TZOFFSETFROM:+0200
TZOFFSETTO:+0100
TZNAME:Europe/Berlin CET
END:STANDARD
BEGIN:DAYLIGHT
DTSTART:20191017T000000
RDATE:20191027T020000
TZOFFSETFROM:+0100
TZOFFSETTO:+0200
TZNAME:Europe/Berlin CEST
END:DAYLIGHT
BEGIN:DAYLIGHT
DTSTART:20200329T030000
RDATE:20201025T020000
TZOFFSETFROM:+0100
TZOFFSETTO:+0200
TZNAME:Europe/Berlin CEST
END:DAYLIGHT
END:VTIMEZONE
BEGIN:VEVENT
UID:4447-07E4061D-0083-1307-FF0D-00770
CATEGORIES:DEFAULT
CLASS:PUBLIC
CREATED:20200629T210934
SUMMARY:Vereinsschau des D 469 KTZ Mechow
LOCATION:Alte Schmiede Mechow Dorfstr. 16866 Kyritz OT Mechow
DESCRIPTION:Sa. 10.00 - 17.00 Uhr, So. 10.00 - 13.00 Uhr Kontakt: Hans Joachim Kunert /
 / 033977/12980 Diese E-Mail-Adresse ist vor Spambots geschützt! Zur Anzeige
  muss JavaScript eingeschaltet sein!
				document.getElementById('cloak9369
 bc9a75e069712e314a10979b826e').innerHTML = '';
				var prefix = '&#109;a' +
  'i&#108;' + '&#116;o';
				var path = 'hr' + 'ef' + '=';
				var addy9369b
 c9a75e069712e314a10979b826e = 'wt&#111;n&#105;n5' + '&#64;';
				addy9369bc
 9a75e069712e314a10979b826e = addy9369bc9a75e069712e314a10979b826e + '&#97;&
 #111;l' + '&#46;' + 'c&#111;m';
				var addy_text9369bc9a75e069712e314a1097
 9b826e = 'wt&#111;n&#105;n5' + '&#64;' + '&#97;&#111;l' + '&#46;' + 'c&#111
 ;m';document.getElementById('cloak9369bc9a75e069712e314a10979b826e').innerH
 TML += '<a ' + path + '\'' + prefix + ':' + addy9369bc9a75e069712e314a10979
 b826e + '\'>'+addy_text9369bc9a75e069712e314a10979b826e+'';
		 gemeldete Ka
 ninchen 30 gemeldetes Geflügel 200
X-ALT-DESC;FMTTYPE=text/html:Sa. 10.00 - 17.00 Uhr, So. 10.00 - 13.00 Uhr Kontakt: Hans Joachim Kunert /
 / 033977/12980 <span id="cloak9369bc9a75e069712e314a10979b826e">Diese E-Mai
 l-Adresse ist vor Spambots geschützt! Zur Anzeige muss JavaScript eingescha
 ltet sein!</span><script type='text/javascript'>
				document.getElementByI
 d('cloak9369bc9a75e069712e314a10979b826e').innerHTML = '';
				var prefix =
  '&#109;a' + 'i&#108;' + '&#116;o';
				var path = 'hr' + 'ef' + '=';
				v
 ar addy9369bc9a75e069712e314a10979b826e = 'wt&#111;n&#105;n5' + '&#64;';
		
 		addy9369bc9a75e069712e314a10979b826e = addy9369bc9a75e069712e314a10979b82
 6e + '&#97;&#111;l' + '&#46;' + 'c&#111;m';
				var addy_text9369bc9a75e069
 712e314a10979b826e = 'wt&#111;n&#105;n5' + '&#64;' + '&#97;&#111;l' + '&#46
 ;' + 'c&#111;m';document.getElementById('cloak9369bc9a75e069712e314a10979b8
 26e').innerHTML += '<a ' + path + '\'' + prefix + ':' + addy9369bc9a75e0697
 12e314a10979b826e + '\'>'+addy_text9369bc9a75e069712e314a10979b826e+'<\/a>'
 ;
		</script> gemeldete Kaninchen 30 gemeldetes Geflügel 200
DTSTAMP:20260421T134943
DTSTART;TZID=Europe/Berlin;VALUE=DATE:20201017
DTEND;TZID=Europe/Berlin;VALUE=DATE:20201019
SEQUENCE:0
TRANSP:OPAQUE
END:VEVENT
END:VCALENDAR