BEGIN:VCALENDAR
VERSION:2.0
PRODID:-//jEvents 2.0 for Joomla//EN
CALSCALE:GREGORIAN
METHOD:PUBLISH
BEGIN:VTIMEZONE
TZID:Europe/Berlin
BEGIN:STANDARD
DTSTART:20171123T000000
RDATE:20180325T030000
TZOFFSETFROM:+0200
TZOFFSETTO:+0100
TZNAME:Europe/Berlin CET
END:STANDARD
BEGIN:STANDARD
DTSTART:20181028T020000
RDATE:20190331T030000
TZOFFSETFROM:+0200
TZOFFSETTO:+0100
TZNAME:Europe/Berlin CET
END:STANDARD
BEGIN:STANDARD
DTSTART:20191027T020000
RDATE:20200329T030000
TZOFFSETFROM:+0200
TZOFFSETTO:+0100
TZNAME:Europe/Berlin CET
END:STANDARD
BEGIN:STANDARD
DTSTART:20201025T020000
RDATE:20210328T030000
TZOFFSETFROM:+0200
TZOFFSETTO:+0100
TZNAME:Europe/Berlin CET
END:STANDARD
BEGIN:DAYLIGHT
DTSTART:20180325T030000
RDATE:20181028T020000
TZOFFSETFROM:+0100
TZOFFSETTO:+0200
TZNAME:Europe/Berlin CEST
END:DAYLIGHT
BEGIN:DAYLIGHT
DTSTART:20190331T030000
RDATE:20191027T020000
TZOFFSETFROM:+0100
TZOFFSETTO:+0200
TZNAME:Europe/Berlin CEST
END:DAYLIGHT
BEGIN:DAYLIGHT
DTSTART:20200329T030000
RDATE:20201025T020000
TZOFFSETFROM:+0100
TZOFFSETTO:+0200
TZNAME:Europe/Berlin CEST
END:DAYLIGHT
END:VTIMEZONE
BEGIN:VEVENT
UID:4447-07E2040F-00A1-1534-FF0E-007B0
CATEGORIES:DEFAULT
CLASS:PUBLIC
CREATED:20180415T235645
SUMMARY:Allgem. Schau des D 235 KTZV Zechin
LOCATION:Kienitzer Str. 9 Kienitzer Str. 9 15328 Zechin
DESCRIPTION:Sa. 09.00 - 16.30 Uhr, So. 09.00 - 14.00 Uhr Kontakt: Anke Zwick // 033472 
 - 51093  gemeldete Kaninchen 101 gemeldetes Geflügel 301
DTSTAMP:20260422T030237
DTSTART;TZID=Europe/Berlin;VALUE=DATE:20181124
DTEND;TZID=Europe/Berlin;VALUE=DATE:20181126
SEQUENCE:0
TRANSP:OPAQUE
END:VEVENT
END:VCALENDAR