BEGIN:VCALENDAR
VERSION:2.0
PRODID:-//jEvents 2.0 for Joomla//EN
CALSCALE:GREGORIAN
METHOD:PUBLISH
BEGIN:VTIMEZONE
TZID:Europe/Berlin
BEGIN:STANDARD
DTSTART:20171109T000000
RDATE:20180325T030000
TZOFFSETFROM:+0200
TZOFFSETTO:+0100
TZNAME:Europe/Berlin CET
END:STANDARD
BEGIN:STANDARD
DTSTART:20181028T020000
RDATE:20190331T030000
TZOFFSETFROM:+0200
TZOFFSETTO:+0100
TZNAME:Europe/Berlin CET
END:STANDARD
BEGIN:STANDARD
DTSTART:20191027T020000
RDATE:20200329T030000
TZOFFSETFROM:+0200
TZOFFSETTO:+0100
TZNAME:Europe/Berlin CET
END:STANDARD
BEGIN:STANDARD
DTSTART:20201025T020000
RDATE:20210328T030000
TZOFFSETFROM:+0200
TZOFFSETTO:+0100
TZNAME:Europe/Berlin CET
END:STANDARD
BEGIN:DAYLIGHT
DTSTART:20180325T030000
RDATE:20181028T020000
TZOFFSETFROM:+0100
TZOFFSETTO:+0200
TZNAME:Europe/Berlin CEST
END:DAYLIGHT
BEGIN:DAYLIGHT
DTSTART:20190331T030000
RDATE:20191027T020000
TZOFFSETFROM:+0100
TZOFFSETTO:+0200
TZNAME:Europe/Berlin CEST
END:DAYLIGHT
BEGIN:DAYLIGHT
DTSTART:20200329T030000
RDATE:20201025T020000
TZOFFSETFROM:+0100
TZOFFSETTO:+0200
TZNAME:Europe/Berlin CEST
END:DAYLIGHT
END:VTIMEZONE
BEGIN:VEVENT
UID:4447-07E2040F-0209-1533-FF37-007A7
CATEGORIES:DEFAULT
CLASS:PUBLIC
CREATED:20180415T235645
SUMMARY:Vereinsschau des D 780 KTZV Neuendorf
LOCATION:Haus der Vereine Hauptstraße 35 03185 Teichland OT Neuendorf
DESCRIPTION:Sa. 09.00 - 18.00 Uhr, So. 09.00 - 16.00 Uhr Kontakt: Maik Hengmith // 0356
 01-24289  gemeldete Kaninchen 100 gemeldetes Geflügel 300
DTSTAMP:20260422T030316
DTSTART;TZID=Europe/Berlin;VALUE=DATE:20181110
DTEND;TZID=Europe/Berlin;VALUE=DATE:20181112
SEQUENCE:0
TRANSP:OPAQUE
END:VEVENT
END:VCALENDAR