BEGIN:VCALENDAR
VERSION:2.0
PRODID:-//jEvents 2.0 for Joomla//EN
CALSCALE:GREGORIAN
METHOD:PUBLISH
BEGIN:VTIMEZONE
TZID:Europe/Berlin
BEGIN:STANDARD
DTSTART:20171102T000000
RDATE:20180325T030000
TZOFFSETFROM:+0200
TZOFFSETTO:+0100
TZNAME:Europe/Berlin CET
END:STANDARD
BEGIN:STANDARD
DTSTART:20181028T020000
RDATE:20190331T030000
TZOFFSETFROM:+0200
TZOFFSETTO:+0100
TZNAME:Europe/Berlin CET
END:STANDARD
BEGIN:STANDARD
DTSTART:20191027T020000
RDATE:20200329T030000
TZOFFSETFROM:+0200
TZOFFSETTO:+0100
TZNAME:Europe/Berlin CET
END:STANDARD
BEGIN:STANDARD
DTSTART:20201025T020000
RDATE:20210328T030000
TZOFFSETFROM:+0200
TZOFFSETTO:+0100
TZNAME:Europe/Berlin CET
END:STANDARD
BEGIN:DAYLIGHT
DTSTART:20180325T030000
RDATE:20181028T020000
TZOFFSETFROM:+0100
TZOFFSETTO:+0200
TZNAME:Europe/Berlin CEST
END:DAYLIGHT
BEGIN:DAYLIGHT
DTSTART:20190331T030000
RDATE:20191027T020000
TZOFFSETFROM:+0100
TZOFFSETTO:+0200
TZNAME:Europe/Berlin CEST
END:DAYLIGHT
BEGIN:DAYLIGHT
DTSTART:20200329T030000
RDATE:20201025T020000
TZOFFSETFROM:+0100
TZOFFSETTO:+0200
TZNAME:Europe/Berlin CEST
END:DAYLIGHT
END:VTIMEZONE
BEGIN:VEVENT
UID:4447-07E2040F-00E4-1533-FF17-00798
CATEGORIES:DEFAULT
CLASS:PUBLIC
CREATED:20180415T235645
SUMMARY:Vereinsschau des D 104 KTZV Friesack
LOCATION:Vereinsheim Vienitzstr. 34-35 14662 Friesack
DESCRIPTION:Sa. 10.00 - 18.00 Uhr, So. 10.00 - 16.00 Uhr Kontakt: Thomas Behlke // 0177
 -2724334 Diese E-Mail-Adresse ist vor Spambots geschützt! Zur Anzeige muss 
 JavaScript eingeschaltet sein!
				document.getElementById('cloak256e02418f
 31a7b43c061b0902322ef8').innerHTML = '';
				var prefix = '&#109;a' + 'i&#1
 08;' + '&#116;o';
				var path = 'hr' + 'ef' + '=';
				var addy256e02418f3
 1a7b43c061b0902322ef8 = 'th&#111;m&#97;s' + '&#64;';
				addy256e02418f31a7
 b43c061b0902322ef8 = addy256e02418f31a7b43c061b0902322ef8 + 'tb-h&#111;m&#1
 01;' + '&#46;' + '&#101;&#117;';
				var addy_text256e02418f31a7b43c061b090
 2322ef8 = 'th&#111;m&#97;s' + '&#64;' + 'tb-h&#111;m&#101;' + '&#46;' + '&#
 101;&#117;';document.getElementById('cloak256e02418f31a7b43c061b0902322ef8'
 ).innerHTML += '<a ' + path + '\'' + prefix + ':' + addy256e02418f31a7b43c0
 61b0902322ef8 + '\'>'+addy_text256e02418f31a7b43c061b0902322ef8+'';
		 geme
 ldete Kaninchen 150 gemeldetes Geflügel 80
X-ALT-DESC;FMTTYPE=text/html:Sa. 10.00 - 18.00 Uhr, So. 10.00 - 16.00 Uhr Kontakt: Thomas Behlke // 0177
 -2724334 <span id="cloak256e02418f31a7b43c061b0902322ef8">Diese E-Mail-Adre
 sse ist vor Spambots geschützt! Zur Anzeige muss JavaScript eingeschaltet s
 ein!</span><script type='text/javascript'>
				document.getElementById('clo
 ak256e02418f31a7b43c061b0902322ef8').innerHTML = '';
				var prefix = '&#10
 9;a' + 'i&#108;' + '&#116;o';
				var path = 'hr' + 'ef' + '=';
				var add
 y256e02418f31a7b43c061b0902322ef8 = 'th&#111;m&#97;s' + '&#64;';
				addy25
 6e02418f31a7b43c061b0902322ef8 = addy256e02418f31a7b43c061b0902322ef8 + 'tb
 -h&#111;m&#101;' + '&#46;' + '&#101;&#117;';
				var addy_text256e02418f31a
 7b43c061b0902322ef8 = 'th&#111;m&#97;s' + '&#64;' + 'tb-h&#111;m&#101;' + '
 &#46;' + '&#101;&#117;';document.getElementById('cloak256e02418f31a7b43c061
 b0902322ef8').innerHTML += '<a ' + path + '\'' + prefix + ':' + addy256e024
 18f31a7b43c061b0902322ef8 + '\'>'+addy_text256e02418f31a7b43c061b0902322ef8
 +'<\/a>';
		</script> gemeldete Kaninchen 150 gemeldetes Geflügel 80
DTSTAMP:20260422T030020
DTSTART;TZID=Europe/Berlin;VALUE=DATE:20181103
DTEND;TZID=Europe/Berlin;VALUE=DATE:20181105
SEQUENCE:0
TRANSP:OPAQUE
END:VEVENT
END:VCALENDAR