BEGIN:VCALENDAR
VERSION:2.0
PRODID:-//jEvents 2.0 for Joomla//EN
CALSCALE:GREGORIAN
METHOD:PUBLISH
BEGIN:VTIMEZONE
TZID:Europe/Berlin
BEGIN:STANDARD
DTSTART:20171102T000000
RDATE:20180325T030000
TZOFFSETFROM:+0200
TZOFFSETTO:+0100
TZNAME:Europe/Berlin CET
END:STANDARD
BEGIN:STANDARD
DTSTART:20181028T020000
RDATE:20190331T030000
TZOFFSETFROM:+0200
TZOFFSETTO:+0100
TZNAME:Europe/Berlin CET
END:STANDARD
BEGIN:STANDARD
DTSTART:20191027T020000
RDATE:20200329T030000
TZOFFSETFROM:+0200
TZOFFSETTO:+0100
TZNAME:Europe/Berlin CET
END:STANDARD
BEGIN:STANDARD
DTSTART:20201025T020000
RDATE:20210328T030000
TZOFFSETFROM:+0200
TZOFFSETTO:+0100
TZNAME:Europe/Berlin CET
END:STANDARD
BEGIN:DAYLIGHT
DTSTART:20180325T030000
RDATE:20181028T020000
TZOFFSETFROM:+0100
TZOFFSETTO:+0200
TZNAME:Europe/Berlin CEST
END:DAYLIGHT
BEGIN:DAYLIGHT
DTSTART:20190331T030000
RDATE:20191027T020000
TZOFFSETFROM:+0100
TZOFFSETTO:+0200
TZNAME:Europe/Berlin CEST
END:DAYLIGHT
BEGIN:DAYLIGHT
DTSTART:20200329T030000
RDATE:20201025T020000
TZOFFSETFROM:+0100
TZOFFSETTO:+0200
TZNAME:Europe/Berlin CEST
END:DAYLIGHT
END:VTIMEZONE
BEGIN:VEVENT
UID:4447-07E2040F-0150-1533-FF15-00797
CATEGORIES:DEFAULT
CLASS:PUBLIC
CREATED:20180415T235645
SUMMARY:Vereinsschau des D 439 KTZ Fläming e.V.
LOCATION:Mehrzweckgebäude  14827 Medewitzhütten
DESCRIPTION:Kontakt: Detlef Schröder //  <span id="cloak9d125c969a78a4eba517cfa1480e1bc
 0">Diese E-Mail-Adresse ist vor Spambots geschützt! Zur Anzeige muss JavaSc
 ript eingeschaltet sein!</span><script type='text/javascript'>
				document
 .getElementById('cloak9d125c969a78a4eba517cfa1480e1bc0').innerHTML = '';
		
 		var prefix = '&#109;a' + 'i&#108;' + '&#116;o';
				var path = 'hr' + 'ef
 ' + '=';
				var addy9d125c969a78a4eba517cfa1480e1bc0 = 'v&#111;lkm&#97;r_p
 &#111;hl' + '&#64;';
				addy9d125c969a78a4eba517cfa1480e1bc0 = addy9d125c9
 69a78a4eba517cfa1480e1bc0 + 'fr&#101;&#101;n&#101;t' + '&#46;' + 'd&#101;';
 
				var addy_text9d125c969a78a4eba517cfa1480e1bc0 = 'v&#111;lkm&#97;r_p&#1
 11;hl' + '&#64;' + 'fr&#101;&#101;n&#101;t' + '&#46;' + 'd&#101;';document.
 getElementById('cloak9d125c969a78a4eba517cfa1480e1bc0').innerHTML += '<a ' 
 + path + '\'' + prefix + ':' + addy9d125c969a78a4eba517cfa1480e1bc0 + '\'>'
 +addy_text9d125c969a78a4eba517cfa1480e1bc0+'<\/a>';
		</script> gemeldete K
 aninchen 85
DTSTAMP:20260422T030210
DTSTART;TZID=Europe/Berlin;VALUE=DATE:20181103
DTEND;TZID=Europe/Berlin;VALUE=DATE:20181105
SEQUENCE:0
TRANSP:OPAQUE
END:VEVENT
END:VCALENDAR