BEGIN:VCALENDAR
VERSION:2.0
PRODID:-//jEvents 2.0 for Joomla//EN
CALSCALE:GREGORIAN
METHOD:PUBLISH
BEGIN:VTIMEZONE
TZID:Europe/Berlin
BEGIN:STANDARD
DTSTART:20171101T000000
RDATE:20180325T030000
TZOFFSETFROM:+0200
TZOFFSETTO:+0100
TZNAME:Europe/Berlin CET
END:STANDARD
BEGIN:STANDARD
DTSTART:20181028T020000
RDATE:20190331T030000
TZOFFSETFROM:+0200
TZOFFSETTO:+0100
TZNAME:Europe/Berlin CET
END:STANDARD
BEGIN:STANDARD
DTSTART:20191027T020000
RDATE:20200329T030000
TZOFFSETFROM:+0200
TZOFFSETTO:+0100
TZNAME:Europe/Berlin CET
END:STANDARD
BEGIN:STANDARD
DTSTART:20201025T020000
RDATE:20210328T030000
TZOFFSETFROM:+0200
TZOFFSETTO:+0100
TZNAME:Europe/Berlin CET
END:STANDARD
BEGIN:DAYLIGHT
DTSTART:20180325T030000
RDATE:20181028T020000
TZOFFSETFROM:+0100
TZOFFSETTO:+0200
TZNAME:Europe/Berlin CEST
END:DAYLIGHT
BEGIN:DAYLIGHT
DTSTART:20190331T030000
RDATE:20191027T020000
TZOFFSETFROM:+0100
TZOFFSETTO:+0200
TZNAME:Europe/Berlin CEST
END:DAYLIGHT
BEGIN:DAYLIGHT
DTSTART:20200329T030000
RDATE:20201025T020000
TZOFFSETFROM:+0100
TZOFFSETTO:+0200
TZNAME:Europe/Berlin CEST
END:DAYLIGHT
END:VTIMEZONE
BEGIN:VEVENT
UID:4447-07E2040F-02B8-1533-FF05-00790
CATEGORIES:DEFAULT
CLASS:PUBLIC
CREATED:20180415T235645
SUMMARY:Allgemeine Schau des D 144 KTZ Kremmen
LOCATION:Musikantenscheune Scheunenweg 16766 Kremmen
DESCRIPTION:Fr. 13.00-17.00 Uhr, Sa. 09.00 - 17.00 Uhr, So. 09.00 - 15.00 Uhr Kontakt: 
 Andreas Nagel // 033055-22293  gemeldete Kaninchen 200 gemeldetes Geflügel 
 100
DTSTAMP:20260422T025943
DTSTART;TZID=Europe/Berlin;VALUE=DATE:20181102
DTEND;TZID=Europe/Berlin;VALUE=DATE:20181105
SEQUENCE:0
TRANSP:OPAQUE
END:VEVENT
END:VCALENDAR